BEGIN:VCALENDAR
VERSION:2.0
PRODID:-//Asociace Senzorické Integrace - ECPv6.7.0//NONSGML v1.0//EN
CALSCALE:GREGORIAN
METHOD:PUBLISH
X-WR-CALNAME:Asociace Senzorické Integrace
X-ORIGINAL-URL:https://senzorickaintegrace.com
X-WR-CALDESC:Akce na Asociace Senzorické Integrace
REFRESH-INTERVAL;VALUE=DURATION:PT1H
X-Robots-Tag:noindex
X-PUBLISHED-TTL:PT1H
BEGIN:VTIMEZONE
TZID:Europe/Prague
BEGIN:DAYLIGHT
TZOFFSETFROM:+0100
TZOFFSETTO:+0200
TZNAME:CEST
DTSTART:20250330T010000
END:DAYLIGHT
BEGIN:STANDARD
TZOFFSETFROM:+0200
TZOFFSETTO:+0100
TZNAME:CET
DTSTART:20251026T010000
END:STANDARD
END:VTIMEZONE
BEGIN:VEVENT
DTSTART;TZID=Europe/Prague:20251004T080000
DTEND;TZID=Europe/Prague:20251005T170000
DTSTAMP:20260426T055134
CREATED:20250120T143936Z
LAST-MODIFIED:20250916T090454Z
UID:1626-1759564800-1759683600@senzorickaintegrace.com
SUMMARY:Přístup Senzorická integrace a možnosti jeho využití v praxi - VOLNÉ MÍSTO!!
DESCRIPTION:Motto: „Terapie je umění a umění je terapie“ (Jane Ayres) \nKurz je určený pro odborníky v oblasti fyzioterapie a ergoterapie\, klinické logopedie. \nWorkshop je třeba absolvovat v celém rozsahu\, není možné se účastnit pouze některých bloků. Na základě Vaší přihlášky Vám bude vystavena faktura.   \nMísto konání: Praha \nCena:\n21 200 Kč pro nečleny ASI\n18 200 Kč pro členy ASI \nKdy:\nModul I.  4.10. – 5.10. 2025 RC Jablíčkov\nModul II.   17.10. – 18.10.2025  Buďánka\nModul III.  7.11 – 8.11.2025 PlaySI \nČasový plán: Workshop je navržen ve třech dvoudenních blocích\, které na sebe v souvislostech navazují. Hodinová dotace: 51 vyučovacích hodin. \nZrušení kurzu a storno poplatky:\nKurz je možné zrušit písemně (e-mailem).\nStorno poplatky za kurzy jsou stanoveny v následující výši:\nZrušení kurzu\n1 týden před zahájenıím kurzu – 100 %\n2 týdny před zahájenıím kurzu – 75 %\n3 týdny před zahájenıím kurzu – 50 %\nStorno poplatek vám nebude účtován v případě\, že za sebe seženete ná-hradníka.\nStorno poplatek za zrušení kurzu ze strany pořadatele kurzu.\nPři zrušení kurzu ze strany pořadatele\, vám vrátí pořadatel 100% uhrazené zálohy\, nebo nabídne stejný (jiný) kurz v novém termínu.
URL:https://senzorickaintegrace.com/akce/workshop-pristup-senzoricka-integrace-a-moznosti-jeho-vyuziti-v-praxi/
LOCATION:RKC Jablíčkov\, Klub Výdech\, Murmanská 1245/15\, Praha 10\, Praha\, 10000\, Czech Republic
END:VEVENT
END:VCALENDAR