BEGIN:VCALENDAR
VERSION:2.0
PRODID:-//Asociace Senzorické Integrace - ECPv6.7.0//NONSGML v1.0//EN
CALSCALE:GREGORIAN
METHOD:PUBLISH
X-ORIGINAL-URL:https://senzorickaintegrace.com
X-WR-CALDESC:Akce na Asociace Senzorické Integrace
REFRESH-INTERVAL;VALUE=DURATION:PT1H
X-Robots-Tag:noindex
X-PUBLISHED-TTL:PT1H
BEGIN:VTIMEZONE
TZID:Europe/Prague
BEGIN:DAYLIGHT
TZOFFSETFROM:+0100
TZOFFSETTO:+0200
TZNAME:CEST
DTSTART:20250330T010000
END:DAYLIGHT
BEGIN:STANDARD
TZOFFSETFROM:+0200
TZOFFSETTO:+0100
TZNAME:CET
DTSTART:20251026T010000
END:STANDARD
END:VTIMEZONE
BEGIN:VEVENT
DTSTART;TZID=Europe/Prague:20251017T080000
DTEND;TZID=Europe/Prague:20251018T170000
DTSTAMP:20260426T055131
CREATED:20250610T074828Z
LAST-MODIFIED:20250912T092727Z
UID:2309-1760688000-1760806800@senzorickaintegrace.com
SUMMARY:Přístup Senzorická integrace a možnosti jeho využití v praxi MODUL II.
DESCRIPTION:
URL:https://senzorickaintegrace.com/akce/pristup-senzoricka-integrace-a-moznosti-jeho-vyuziti-v-praxi-modul-ii-workshop-je-obsazen/
LOCATION:Buďánka\, Nad Zámečnicí 3333/10\, Praha 5\, Praha\, 15000\, Czech Republic
END:VEVENT
END:VCALENDAR