BEGIN:VCALENDAR
VERSION:2.0
PRODID:-//Asociace Senzorické Integrace - ECPv6.7.0//NONSGML v1.0//EN
CALSCALE:GREGORIAN
METHOD:PUBLISH
X-WR-CALNAME:Asociace Senzorické Integrace
X-ORIGINAL-URL:https://senzorickaintegrace.com
X-WR-CALDESC:Akce na Asociace Senzorické Integrace
REFRESH-INTERVAL;VALUE=DURATION:PT1H
X-Robots-Tag:noindex
X-PUBLISHED-TTL:PT1H
BEGIN:VTIMEZONE
TZID:Europe/Prague
BEGIN:DAYLIGHT
TZOFFSETFROM:+0100
TZOFFSETTO:+0200
TZNAME:CEST
DTSTART:20260329T010000
END:DAYLIGHT
BEGIN:STANDARD
TZOFFSETFROM:+0200
TZOFFSETTO:+0100
TZNAME:CET
DTSTART:20261025T010000
END:STANDARD
END:VTIMEZONE
BEGIN:VEVENT
DTSTART;TZID=Europe/Prague:20260314T080000
DTEND;TZID=Europe/Prague:20260314T170000
DTSTAMP:20260425T210915
CREATED:20251111T094642Z
LAST-MODIFIED:20251111T094642Z
UID:2475-1773475200-1773507600@senzorickaintegrace.com
SUMMARY:7. Setkání ASI
DESCRIPTION:Pro členy ASI a přednášející je vstup zdarma.\n\nPro nečleny ASI: 500\,-Kč \nStejně jako v minulých letech budou na programu odborné příspěvky\, sdílení zkušeností z praxe. \nSoučástí bude členská schůze spolku\, která je naší každoroční povinností. \nProgram bude k dispozici později.
URL:https://senzorickaintegrace.com/akce/7-setkani-asi/
LOCATION:RC Jablíčkov\, Počernická 524/64\, Praha 10\, Czech Republic
END:VEVENT
END:VCALENDAR