BEGIN:VCALENDAR
VERSION:2.0
PRODID:-//Asociace Senzorické Integrace - ECPv6.7.0//NONSGML v1.0//EN
CALSCALE:GREGORIAN
METHOD:PUBLISH
X-WR-CALNAME:Asociace Senzorické Integrace
X-ORIGINAL-URL:https://senzorickaintegrace.com
X-WR-CALDESC:Akce na Asociace Senzorické Integrace
REFRESH-INTERVAL;VALUE=DURATION:PT1H
X-Robots-Tag:noindex
X-PUBLISHED-TTL:PT1H
BEGIN:VTIMEZONE
TZID:Europe/Prague
BEGIN:DAYLIGHT
TZOFFSETFROM:+0100
TZOFFSETTO:+0200
TZNAME:CEST
DTSTART:20250330T010000
END:DAYLIGHT
BEGIN:STANDARD
TZOFFSETFROM:+0200
TZOFFSETTO:+0100
TZNAME:CET
DTSTART:20251026T010000
END:STANDARD
END:VTIMEZONE
BEGIN:VEVENT
DTSTART;TZID=Europe/Prague:20250517T090000
DTEND;TZID=Europe/Prague:20250517T163000
DTSTAMP:20260426T033226
CREATED:20250120T140931Z
LAST-MODIFIED:20250515T193552Z
UID:1620-1747472400-1747499400@senzorickaintegrace.com
SUMMARY:Senzorická integrace jako základní stavební kámen učení
DESCRIPTION:pro psychology a speciální pedagogy\n \nSenzorická integrace se týká zpracování\, integrace a organizace smyslových informací z těla a prostředí. Terapeutický přístup Ayres Sensory Integration ® (ASI) se používá u dětí s poruchou smyslového zpracování (SPD)\, dětí s poruchou autistického spektra a dětí s nerovnoměrným vývojem. Účastníci budou seznámeni s teoretickým základem ASI\, základy neurovědy\, na kterých je ASI založena. Jedná se o metodu EBP (Evidence – based practice). Představíme Vám potíže citlivého dítěte\, dítěte s dyspraxií a obtížemi s rovnováhou a oboustrannou pohybovou koordinací. Jejich vliv na běžné fungování v životě dítěte a jeho rodiny\, zároveň Vám ukážeme smyslové strategie\, které u těchto dětí používáme. Součástí semináře jsou zážitkové aktivity\, které vám pomohou si představit vnímání dětí s poruchou smyslového procesování. Budou vám předvedeny také smyslové strategie užívané ve školních zařízeních. \nCíle workshopu: \n\nPochopení principu senzorické integrace\nSeznámení se smyslovými systémy a jejich impakt na běžné fungování dítěte v domácím prostředí\, v předškolních a školních zařízeních\nVhled do některých poruch smyslového zpracování\nSeznámení se smyslovými strategiemi ve školních zařízeních\nZážitkové aktivity cílené na zpracování smyslových vjemů hmatových\, proprioceptivních a rovnovážných\n\nworkshop má akreditaci AKP \nodborný garant PhDr. Magdalena Nováková\nLektoři: Bc. Zdenka Hyttichová\, Bc. Adéla Podroužková MSc \nZrušení kurzu a storno poplatky:\nKurz je možné zrušit písemně (e-mailem).\nStorno poplatky za kurzy jsou stanoveny v následující výši:\nZrušení kurzu\n1 týden před zahájenıím kurzu – 100 %\n2 týdny před zahájenıím kurzu – 75 %\n3 týdny před zahájenıím kurzu – 50 %\nStorno poplatek vám nebude účtován v případě\, že za sebe seženete ná-hradníka.\nStorno poplatek za zrušení kurzu ze strany pořadatele kurzu.\nPři zrušení kurzu ze strany pořadatele\, vám vrátí pořadatel 100% uhrazené zálohy\, nebo nabídne stejný (jiný) kurz v novém termínu.
URL:https://senzorickaintegrace.com/akce/senzoricka-integrace-jako-zakladni-stavebni-kamen-uceni/
LOCATION:RC Jablíčkov\, Počernická 524/64\, Praha 10\, Czech Republic
END:VEVENT
BEGIN:VEVENT
DTSTART;TZID=Europe/Prague:20250426T000000
DTEND;TZID=Europe/Prague:20250426T235959
DTSTAMP:20260426T033226
CREATED:20250121T080604Z
LAST-MODIFIED:20250416T061429Z
UID:1633-1745625600-1745711999@senzorickaintegrace.com
SUMMARY:6. Setkání ASI
DESCRIPTION:Hromádné setkání – 26.4. 2025
URL:https://senzorickaintegrace.com/akce/6-setkani-asi/
LOCATION:RC Jablíčkov\, Počernická 524/64\, Praha 10\, Czech Republic
END:VEVENT
BEGIN:VEVENT
DTSTART;TZID=Europe/Prague:20250411T000000
DTEND;TZID=Europe/Prague:20250413T235959
DTSTAMP:20260426T033226
CREATED:20250122T103422Z
LAST-MODIFIED:20250122T103422Z
UID:1655-1744329600-1744588799@senzorickaintegrace.com
SUMMARY:SMYSLOVÝ VÝVOJ DÍTĚTE A JEHO INTERAKCE V PROSTŘEDÍ - workshop
DESCRIPTION:Kapacita akce je již zcela obsazena
URL:https://senzorickaintegrace.com/akce/smyslovy-vyvoj-ditete-a-jeho-interakce-v-prostredi-workshop/
LOCATION:Středočeský
END:VEVENT
BEGIN:VEVENT
DTSTART;TZID=Europe/Prague:20250405T000000
DTEND;TZID=Europe/Prague:20250407T235959
DTSTAMP:20260426T033226
CREATED:20250122T102934Z
LAST-MODIFIED:20250310T121308Z
UID:1653-1743811200-1744070399@senzorickaintegrace.com
SUMMARY:VESTIBULÁRNÍ A ZRAKOVÝ SYSTÉM - Workshop
DESCRIPTION:Kapacita je již zcela obsazena
URL:https://senzorickaintegrace.com/akce/vestibularni-a-zrakovy-system-worskwhop/
LOCATION:Středočeský
END:VEVENT
BEGIN:VEVENT
DTSTART;TZID=Europe/Prague:20250125T090000
DTEND;TZID=Europe/Prague:20250125T163000
DTSTAMP:20260426T033226
CREATED:20250120T135723Z
LAST-MODIFIED:20250120T135723Z
UID:1616-1737795600-1737822600@senzorickaintegrace.com
SUMMARY:Workshop „Dobrá SI praxe“
DESCRIPTION:Komu je určen: účastníkům CLASI-CASI a workshopů SI a jeho využití v praxi (ASI)
URL:https://senzorickaintegrace.com/akce/workshop-dobra-si-praxe/
LOCATION:PLAY SI Praha 5\, PLAY SI\, Praha 5\, Středočeský\, Czech Republic
END:VEVENT
BEGIN:VEVENT
DTSTART;TZID=Europe/Prague:20250125T000000
DTEND;TZID=Europe/Prague:20250125T235959
DTSTAMP:20260426T033226
CREATED:20250121T080444Z
LAST-MODIFIED:20250121T080444Z
UID:1631-1737763200-1737849599@senzorickaintegrace.com
SUMMARY:„DOBRÁ SI PRAXE“ - workshop
DESCRIPTION:Jedná se o workshop
URL:https://senzorickaintegrace.com/akce/dobra-si-praxe-workshop/
LOCATION:Středočeský
END:VEVENT
END:VCALENDAR